BEGIN:VCALENDAR
VERSION:2.0
PRODID:-//Town of Spangle - ECPv6.15.20//NONSGML v1.0//EN
CALSCALE:GREGORIAN
METHOD:PUBLISH
X-WR-CALNAME:Town of Spangle
X-ORIGINAL-URL:https://www.spanglewa.com
X-WR-CALDESC:Events for Town of Spangle
REFRESH-INTERVAL;VALUE=DURATION:PT1H
X-Robots-Tag:noindex
X-PUBLISHED-TTL:PT1H
BEGIN:VTIMEZONE
TZID:America/Los_Angeles
BEGIN:DAYLIGHT
TZOFFSETFROM:-0800
TZOFFSETTO:-0700
TZNAME:PDT
DTSTART:20240310T100000
END:DAYLIGHT
BEGIN:STANDARD
TZOFFSETFROM:-0700
TZOFFSETTO:-0800
TZNAME:PST
DTSTART:20241103T090000
END:STANDARD
BEGIN:DAYLIGHT
TZOFFSETFROM:-0800
TZOFFSETTO:-0700
TZNAME:PDT
DTSTART:20250309T100000
END:DAYLIGHT
BEGIN:STANDARD
TZOFFSETFROM:-0700
TZOFFSETTO:-0800
TZNAME:PST
DTSTART:20251102T090000
END:STANDARD
BEGIN:DAYLIGHT
TZOFFSETFROM:-0800
TZOFFSETTO:-0700
TZNAME:PDT
DTSTART:20260308T100000
END:DAYLIGHT
BEGIN:STANDARD
TZOFFSETFROM:-0700
TZOFFSETTO:-0800
TZNAME:PST
DTSTART:20261101T090000
END:STANDARD
BEGIN:DAYLIGHT
TZOFFSETFROM:-0800
TZOFFSETTO:-0700
TZNAME:PDT
DTSTART:20270314T100000
END:DAYLIGHT
BEGIN:STANDARD
TZOFFSETFROM:-0700
TZOFFSETTO:-0800
TZNAME:PST
DTSTART:20271107T090000
END:STANDARD
END:VTIMEZONE
BEGIN:VEVENT
DTSTART;TZID=America/Los_Angeles:20260413T180000
DTEND;TZID=America/Los_Angeles:20260413T190000
DTSTAMP:20260421T052020
CREATED:20260410T172936Z
LAST-MODIFIED:20260410T172953Z
UID:1603-1776103200-1776106800@www.spanglewa.com
SUMMARY:Town Meeting
DESCRIPTION:April 13th Town Meeting Agenda
URL:https://www.spanglewa.com/event/town-meeting-19/
CATEGORIES:Town Meeting
END:VEVENT
BEGIN:VEVENT
DTSTART;TZID=America/Los_Angeles:20260309T180000
DTEND;TZID=America/Los_Angeles:20260309T190000
DTSTAMP:20260421T052020
CREATED:20260306T211957Z
LAST-MODIFIED:20260306T211957Z
UID:1587-1773079200-1773082800@www.spanglewa.com
SUMMARY:Town Meeting
DESCRIPTION:March 9th Town Meeting Agenda
URL:https://www.spanglewa.com/event/town-meeting-18/
CATEGORIES:Town Meeting
END:VEVENT
BEGIN:VEVENT
DTSTART;TZID=America/Los_Angeles:20260223T180000
DTEND;TZID=America/Los_Angeles:20260223T190000
DTSTAMP:20260421T052020
CREATED:20260220T192554Z
LAST-MODIFIED:20260220T192554Z
UID:1580-1771869600-1771873200@www.spanglewa.com
SUMMARY:Town Meeting
DESCRIPTION:February 23rd Town Meeting Agenda
URL:https://www.spanglewa.com/event/town-meeting-17/
CATEGORIES:Town Meeting
END:VEVENT
BEGIN:VEVENT
DTSTART;TZID=America/Los_Angeles:20260209T180000
DTEND;TZID=America/Los_Angeles:20260209T190000
DTSTAMP:20260421T052020
CREATED:20260205T223128Z
LAST-MODIFIED:20260205T223128Z
UID:1507-1770660000-1770663600@www.spanglewa.com
SUMMARY:Town Meeting
DESCRIPTION:February 9th Town Meeting Agenda
URL:https://www.spanglewa.com/event/town-meeting-16/
CATEGORIES:Town Meeting
END:VEVENT
BEGIN:VEVENT
DTSTART;TZID=America/Los_Angeles:20260112T180000
DTEND;TZID=America/Los_Angeles:20260112T190000
DTSTAMP:20260421T052020
CREATED:20260109T215447Z
LAST-MODIFIED:20260109T215551Z
UID:1478-1768240800-1768244400@www.spanglewa.com
SUMMARY:Town Meeting
DESCRIPTION:January 12th Town Meeting Agenda
URL:https://www.spanglewa.com/event/town-meeting-15/
CATEGORIES:Town Meeting
END:VEVENT
BEGIN:VEVENT
DTSTART;TZID=America/Los_Angeles:20251208T180000
DTEND;TZID=America/Los_Angeles:20251208T190000
DTSTAMP:20260421T052020
CREATED:20251205T222626Z
LAST-MODIFIED:20251205T222715Z
UID:1427-1765216800-1765220400@www.spanglewa.com
SUMMARY:Town Meeting
DESCRIPTION:December 8th Town Meeting Agenda
URL:https://www.spanglewa.com/event/town-meeting-14/
CATEGORIES:Town Meeting
END:VEVENT
BEGIN:VEVENT
DTSTART;TZID=America/Los_Angeles:20251124T180000
DTEND;TZID=America/Los_Angeles:20251124T190000
DTSTAMP:20260421T052020
CREATED:20251121T175943Z
LAST-MODIFIED:20251121T180046Z
UID:1413-1764007200-1764010800@www.spanglewa.com
SUMMARY:Town Meeting
DESCRIPTION:November 24th Town Meeting Agenda
URL:https://www.spanglewa.com/event/town-meeting-13/
CATEGORIES:Town Meeting
END:VEVENT
BEGIN:VEVENT
DTSTART;TZID=America/Los_Angeles:20251110T180000
DTEND;TZID=America/Los_Angeles:20251110T190000
DTSTAMP:20260421T052020
CREATED:20251110T174452Z
LAST-MODIFIED:20251110T175626Z
UID:1403-1762797600-1762801200@www.spanglewa.com
SUMMARY:Town Meeting
DESCRIPTION:November 10th Town Meeting Agenda
URL:https://www.spanglewa.com/event/town-meeting-12/
CATEGORIES:Town Meeting
END:VEVENT
BEGIN:VEVENT
DTSTART;TZID=America/Los_Angeles:20250512T180000
DTEND;TZID=America/Los_Angeles:20250512T190000
DTSTAMP:20260421T052020
CREATED:20250509T161238Z
LAST-MODIFIED:20250509T161238Z
UID:1289-1747072800-1747076400@www.spanglewa.com
SUMMARY:Town Meeting
DESCRIPTION:May 12th Town Meeting Agenda
URL:https://www.spanglewa.com/event/town-meeting-6/
CATEGORIES:Town Meeting
END:VEVENT
BEGIN:VEVENT
DTSTART;TZID=America/Los_Angeles:20250428T180000
DTEND;TZID=America/Los_Angeles:20250428T190000
DTSTAMP:20260421T052020
CREATED:20250425T215954Z
LAST-MODIFIED:20250425T215954Z
UID:1258-1745863200-1745866800@www.spanglewa.com
SUMMARY:Town Meeting
DESCRIPTION:April 28th Town Meeting Agenda
URL:https://www.spanglewa.com/event/town-meeting-5/
CATEGORIES:Town Meeting
END:VEVENT
BEGIN:VEVENT
DTSTART;TZID=America/Los_Angeles:20250414T180000
DTEND;TZID=America/Los_Angeles:20250414T190000
DTSTAMP:20260421T052020
CREATED:20250411T201549Z
LAST-MODIFIED:20250411T201549Z
UID:1244-1744653600-1744657200@www.spanglewa.com
SUMMARY:Town Meeting
DESCRIPTION:April 14th Town Meeting Agenda
URL:https://www.spanglewa.com/event/town-meeting-4/
CATEGORIES:Town Meeting
END:VEVENT
BEGIN:VEVENT
DTSTART;TZID=America/Los_Angeles:20250324T180000
DTEND;TZID=America/Los_Angeles:20250324T190000
DTSTAMP:20260421T052020
CREATED:20250321T175358Z
LAST-MODIFIED:20250321T175358Z
UID:1217-1742839200-1742842800@www.spanglewa.com
SUMMARY:Town Meeting
DESCRIPTION:March 24th Town Meeting Agenda
URL:https://www.spanglewa.com/event/town-meeting-3/
CATEGORIES:Town Meeting
END:VEVENT
BEGIN:VEVENT
DTSTART;TZID=America/Los_Angeles:20250310T180000
DTEND;TZID=America/Los_Angeles:20250310T190000
DTSTAMP:20260421T052020
CREATED:20250307T225935Z
LAST-MODIFIED:20250307T230204Z
UID:1142-1741629600-1741633200@www.spanglewa.com
SUMMARY:Town Meeting
DESCRIPTION:March 10th Town Meeting Agenda
URL:https://www.spanglewa.com/event/town-meeting-2/
LOCATION:Spangle Town Hall\, 115 W 2nd St\, Spangle\, WA\, 99031\, United States
CATEGORIES:Town Meeting
END:VEVENT
BEGIN:VEVENT
DTSTART;TZID=America/Los_Angeles:20250224T180000
DTEND;TZID=America/Los_Angeles:20250224T190000
DTSTAMP:20260421T052020
CREATED:20250212T232242Z
LAST-MODIFIED:20250220T232843Z
UID:263-1740420000-1740423600@www.spanglewa.com
SUMMARY:Town Meeting
DESCRIPTION:February 24th Town Meeting Agenda
URL:https://www.spanglewa.com/event/town-meeting/
LOCATION:Spangle Town Hall\, 115 W 2nd St\, Spangle\, WA\, 99031\, United States
CATEGORIES:Town Meeting
END:VEVENT
END:VCALENDAR